BEGIN:VCALENDAR
VERSION:2.0
PRODID:-//Tukios.com/
BEGIN:VEVENT
UID:c2655f5f-35fa-4635-816a-7c7f294d379a@www.newcomerakron.com
DTSTAMP:20260424T203711Z
DTSTART:20260508T170000Z
DTEND:20260508T180000Z
SUMMARY:Graveside Service
DESCRIPTION:
URL:https://www.newcomerakron.com/obituaries/william-neal
LOCATION: 150 Glendale Avenue  Akron OH 44302
GEO:41.0842022;-81.5315291
END:VEVENT
END:VCALENDAR