BEGIN:VCALENDAR
VERSION:2.0
PRODID:-//Tukios.com/
BEGIN:VEVENT
UID:197fee16-7e28-4928-abaf-c2ea18149458@www.newcomerakron.com
DTSTAMP:20260424T000228Z
DTSTART:20260501T150000Z
DTEND:20260501T160000Z
SUMMARY:Memorial Service
DESCRIPTION:
URL:https://www.newcomerakron.com/obituaries/terry-wilson
LOCATION:Newcomer Cremations, Funerals & Receptions 131 North Canton Road 
	 Akron OH 44305
GEO:41.0674722;-81.4409642
END:VEVENT
END:VCALENDAR