BEGIN:VCALENDAR
VERSION:2.0
PRODID:-//Tukios.com/
BEGIN:VEVENT
UID:358e502c-a930-4598-a5bf-dfe4d59f77f3@www.newcomerakron.com
DTSTAMP:20260424T000228Z
DTSTART:20260501T140000Z
DTEND:20260501T150000Z
SUMMARY:Visitation
DESCRIPTION:
URL:https://www.newcomerakron.com/obituaries/terry-wilson
LOCATION: 131 North Canton Road  Akron OH 44305
GEO:41.0674722;-81.4409642
END:VEVENT
END:VCALENDAR