BEGIN:VCALENDAR
VERSION:2.0
PRODID:-//Tukios.com/
BEGIN:VEVENT
UID:c8c4e21c-aa66-4a9e-bbe1-4cbe1bea4cf9@www.newcomerakron.com
DTSTAMP:20260425T191830Z
DTSTART:20260501T180000Z
DTEND:20260501T181500Z
SUMMARY:Graveside Service
DESCRIPTION:
URL:https://www.newcomerakron.com/obituaries/milan-spengler
LOCATION: 3653 West Market Street  Akron OH 44333
GEO:41.1363928;-81.630651
END:VEVENT
END:VCALENDAR