BEGIN:VCALENDAR
VERSION:2.0
PRODID:-//Tukios.com/
BEGIN:VEVENT
UID:ece59fe8-417a-4ad1-bd6c-059253b67cbe@www.newcomerakron.com
DTSTAMP:20260425T191550Z
DTSTART:20260501T163000Z
DTEND:20260501T173000Z
SUMMARY:Funeral Service
DESCRIPTION:
URL:https://www.newcomerakron.com/obituaries/milan-spengler
LOCATION:Newcomer Funeral Home 131 N Canton Rd  Akron OH 44305
GEO:41.0674722;-81.4409642
END:VEVENT
END:VCALENDAR