BEGIN:VCALENDAR
VERSION:2.0
PRODID:-//Tukios.com/
BEGIN:VEVENT
UID:1bea3eee-cede-431b-9a38-d63793079f3a@www.newcomerakron.com
DTSTAMP:20260425T191549Z
DTSTART:20260501T150000Z
DTEND:20260501T163000Z
SUMMARY:Visitation
DESCRIPTION:
URL:https://www.newcomerakron.com/obituaries/milan-spengler
LOCATION:Newcomer Funeral Home 131 N Canton Rd  Akron OH 44305
GEO:41.0674722;-81.4409642
END:VEVENT
END:VCALENDAR