BEGIN:VCALENDAR
VERSION:2.0
PRODID:-//Tukios.com/
BEGIN:VEVENT
UID:80140cc0-3617-488a-acae-1ca8572f83c5@www.newcomerakron.com
DTSTAMP:20260424T203142Z
DTSTART:20260502T190000Z
DTEND:20260502T220000Z
SUMMARY:Celebration of Life
DESCRIPTION:
URL:https://www.newcomerakron.com/obituaries/james-apitz
LOCATION:853 Pontius Road 853 Pontius Road  Mogadore OH 44260
GEO:40.9890995;-81.3623484
END:VEVENT
END:VCALENDAR