BEGIN:VCALENDAR
VERSION:2.0
PRODID:-//Tukios.com/
BEGIN:VEVENT
UID:70225010-a49c-43db-bf6b-5ab29268c391@www.newcomerakron.com
DTSTAMP:20260424T165253Z
DTSTART:20260428T170000Z
DTEND:20260428T180000Z
SUMMARY:Funeral Service
DESCRIPTION:
URL:https://www.newcomerakron.com/obituaries/evelyn-kopp
LOCATION:Newcomer Funeral Home 131 N Canton Rd  Akron OH 44305
GEO:41.0674722;-81.4409642
END:VEVENT
END:VCALENDAR