BEGIN:VCALENDAR
VERSION:2.0
PRODID:-//Tukios.com/
BEGIN:VEVENT
UID:c7cdecfb-86e8-4d9b-8f42-2d9373662e51@www.newcomerakron.com
DTSTAMP:20260424T165253Z
DTSTART:20260428T160000Z
DTEND:20260428T170000Z
SUMMARY:Visitation
DESCRIPTION:
URL:https://www.newcomerakron.com/obituaries/evelyn-kopp
LOCATION:Newcomer Funeral Home 131 N Canton Rd  Akron OH 44305
GEO:41.0674722;-81.4409642
END:VEVENT
END:VCALENDAR