BEGIN:VCALENDAR
VERSION:2.0
PRODID:-//Tukios.com/
BEGIN:VEVENT
UID:297e756f-0503-42c4-b6c4-2dc1fa88eb13@www.newcomerakron.com
DTSTAMP:20260421T141857Z
DTSTART:20260423T160000Z
DTEND:20260423T170000Z
SUMMARY:Visitation
DESCRIPTION:
URL:https://www.newcomerakron.com/obituaries/brad-mcgarvey
LOCATION: 131 North Canton Road  Akron OH 44305
GEO:41.0674722;-81.4409642
END:VEVENT
END:VCALENDAR