BEGIN:VCALENDAR
VERSION:2.0
PRODID:-//Tukios.com/
BEGIN:VEVENT
UID:81093528-c69a-41dd-a5d6-e510b28a259a@www.newcomerakron.com
DTSTAMP:20260425T171222Z
DTSTART:20260509T170000Z
DTEND:20260509T180000Z
SUMMARY:Funeral Service
DESCRIPTION:
URL:https://www.newcomerakron.com/obituaries/barbara-gondorchin
LOCATION:Newcomer Funeral Home 131 N Canton Rd  Akron OH 44305
GEO:41.0674722;-81.4409642
END:VEVENT
END:VCALENDAR