BEGIN:VCALENDAR
VERSION:2.0
PRODID:-//Tukios.com/
BEGIN:VEVENT
UID:51f1eabc-d054-4401-83b0-ecb36794a642@www.newcomerakron.com
DTSTAMP:20260425T171222Z
DTSTART:20260509T150000Z
DTEND:20260509T170000Z
SUMMARY:Visitation
DESCRIPTION:
URL:https://www.newcomerakron.com/obituaries/barbara-gondorchin
LOCATION:Newcomer Funeral Home 131 N Canton Rd  Akron OH 44305
GEO:41.0674722;-81.4409642
END:VEVENT
END:VCALENDAR