BEGIN:VCALENDAR
VERSION:2.0
PRODID:-//Tukios.com/
BEGIN:VEVENT
UID:f5b376e5-4b47-4226-b459-e26c6f269789@www.newcomerakron.com
DTSTAMP:20260422T205417Z
DTSTART:20260427T200000Z
DTEND:20260427T210000Z
SUMMARY:Memorial Service
DESCRIPTION:
URL:https://www.newcomerakron.com/obituaries/anna-copeland
LOCATION:Passion Church 61 Hartville Road N.  Hartville OH 44632
GEO:40.9905373;-81.2941094
END:VEVENT
END:VCALENDAR