BEGIN:VCALENDAR
VERSION:2.0
PRODID:-//Tukios.com/
BEGIN:VEVENT
UID:3ffc9f15-1eef-4db7-8ebc-7eb0c47761bb@www.newcomerakron.com
DTSTAMP:20260422T203455Z
DTSTART:20260427T180000Z
DTEND:20260427T200000Z
SUMMARY:Visitation
DESCRIPTION:
URL:https://www.newcomerakron.com/obituaries/anna-copeland
LOCATION:Passion Church 61 Hartville Road N.  Hartville OH 44632
GEO:40.9905373;-81.2941094
END:VEVENT
END:VCALENDAR